BEGIN:VCALENDAR
PRODID:-//http://statistik.d-u-v.org//PHP ultracalendar//EN
VERSION:2.0
METHOD:PUBLISH
BEGIN:VEVENT
DTSTAMP:20260419T211241
CREATED:20170925T153105
UID:1776633161.0.54956200-43412@statistik.d-u-v.org
SUMMARY:Hamster Endurance Runs 32 Hour Run
DESCRIPTION: Hamster Endurance Runs 32 Hour Run\n
  \n
  
DTSTART:20170909T000000
DTEND:20170910T235900
LOCATION:Bellingham, WA\, USA
URL:http://www.hamsterenduranceruns.com/
CATEGORIES:Ultramarathon
CONTACT:
CLASS:PUBLIC
PRIORITY:5
TRANSP:OPAQUE
END:VEVENT
END:VCALENDAR
