BEGIN:VCALENDAR
PRODID:-//http://statistik.d-u-v.org//PHP ultracalendar//EN
VERSION:2.0
METHOD:PUBLISH
BEGIN:VEVENT
DTSTAMP:20260425T170324
CREATED:20170919T150635
UID:1777136604.0.00317300-43337@statistik.d-u-v.org
SUMMARY:Santo Ultra Maranic - Keihan Course
DESCRIPTION: Santo Ultra Maranic - Keihan Course\n
  \n
  santoultra200[at]gmail.com
DTSTART:20171202T080000
DTEND:00000000T235900
LOCATION:Osaka, Osaka Pref.\, JPN
URL:http://mayu2016.a.la9.jp/santoultra/santoyoukou.html
CATEGORIES:Ultramarathon
CONTACT:
CLASS:PUBLIC
PRIORITY:5
TRANSP:OPAQUE
END:VEVENT
END:VCALENDAR
