BEGIN:VCALENDAR
PRODID:-//http://statistik.d-u-v.org//PHP ultracalendar//EN
VERSION:2.0
METHOD:PUBLISH
BEGIN:VEVENT
DTSTAMP:20260423T054058
CREATED:20170917T102641
UID:1776922858.0.58178900-43308@statistik.d-u-v.org
SUMMARY:T60 Challenge
DESCRIPTION: T60 Challenge\n
  Shane Benzie\n
  tseriesracing[at]gmail.com
DTSTART:20180512T200000
DTEND:20180513T235900
LOCATION:Oxford\, GBR
URL:http://www.tseriesracing.com/t60
CATEGORIES:Ultramarathon
CONTACT:Shane Benzie
CLASS:PUBLIC
PRIORITY:5
TRANSP:OPAQUE
END:VEVENT
END:VCALENDAR
