BEGIN:VCALENDAR
PRODID:-//http://statistik.d-u-v.org//PHP ultracalendar//EN
VERSION:2.0
METHOD:PUBLISH
BEGIN:VEVENT
DTSTAMP:20260423T023809
CREATED:20170915T153339
UID:1776911889.0.79503700-43271@statistik.d-u-v.org
SUMMARY:San Joaquin River Trail 50K Run
DESCRIPTION: San Joaquin River Trail 50K Run\n
  Race Director Nathaniel Moore\n
  sjrtrailruns[at]gmail.com
DTSTART:20171118T000000
DTEND:00000000T235900
LOCATION:Friant, CA\, USA
URL:http://www.sanjoaquinrunning.com/sjrtultra/
CATEGORIES:Ultramarathon
CONTACT:Race Director Nathaniel Moore
CLASS:PUBLIC
PRIORITY:5
TRANSP:OPAQUE
END:VEVENT
END:VCALENDAR
