BEGIN:VCALENDAR
PRODID:-//http://statistik.d-u-v.org//PHP ultracalendar//EN
VERSION:2.0
METHOD:PUBLISH
BEGIN:VEVENT
DTSTAMP:20260425T235533
CREATED:20170914T173931
UID:1777161333.0.54366700-43226@statistik.d-u-v.org
SUMMARY:6 Days UMF - 100 Km
DESCRIPTION: 6 Days UMF - 100 Km\n
  Pasquale Brandi\n
  pasqual.brandi[at]tiscali.it
DTSTART:20180915T150000
DTEND:20180916T150000
LOCATION:Policoro (MT)\, ITA
URL:http://www.6giornidelpantano.com/
CATEGORIES:Ultramarathon
CONTACT:Pasquale Brandi
CLASS:PUBLIC
PRIORITY:5
TRANSP:OPAQUE
END:VEVENT
END:VCALENDAR
