BEGIN:VCALENDAR
PRODID:-//http://statistik.d-u-v.org//PHP ultracalendar//EN
VERSION:2.0
METHOD:PUBLISH
BEGIN:VEVENT
DTSTAMP:20260425T180045
CREATED:20170914T172310
UID:1777140045.0.07853800-43217@statistik.d-u-v.org
SUMMARY:Trail de Herou - Championnat de Belgique de trail
DESCRIPTION: Trail de Herou - Championnat de Belgique de trail\n
  \n
  info[at]trailduherou.net
DTSTART:20170909T000000
DTEND:00000000T235900
LOCATION:Houffalize\, BEL
URL:http://www.trailduherou.net/nl/home
CATEGORIES:Ultramarathon
CONTACT:
CLASS:PUBLIC
PRIORITY:5
TRANSP:OPAQUE
END:VEVENT
END:VCALENDAR
