BEGIN:VCALENDAR
PRODID:-//http://statistik.d-u-v.org//PHP ultracalendar//EN
VERSION:2.0
METHOD:PUBLISH
BEGIN:VEVENT
DTSTAMP:20260423T011112
CREATED:20170907T152101
UID:1776906672.0.44671000-43072@statistik.d-u-v.org
SUMMARY:Yin of the Beaver 12hr
DESCRIPTION: Yin of the Beaver 12hr\n
  \n
  
DTSTART:20170812T193000
DTEND:20170813T235900
LOCATION:Dublin, GA\, USA
URL:https://ultrasignup.com/register.aspx?did=40662
CATEGORIES:Ultramarathon
CONTACT:
CLASS:PUBLIC
PRIORITY:5
TRANSP:OPAQUE
END:VEVENT
END:VCALENDAR
