BEGIN:VCALENDAR
PRODID:-//http://statistik.d-u-v.org//PHP ultracalendar//EN
VERSION:2.0
METHOD:PUBLISH
BEGIN:VEVENT
DTSTAMP:20260424T163024
CREATED:20170907T152101
UID:1777048224.0.90509600-43062@statistik.d-u-v.org
SUMMARY:Martha Moats Baker Memorial 35 Mile
DESCRIPTION: Martha Moats Baker Memorial 35 Mile\n
  Race Director Dennis Herr\n
  
DTSTART:20090815T000000
DTEND:00000000T235900
LOCATION:Wild Oak Trail Trailhead, VA\, USA
URL:http://www.vhtrc.org/news/mmb50
CATEGORIES:Ultramarathon
CONTACT:Race Director Dennis Herr
CLASS:PUBLIC
PRIORITY:5
TRANSP:OPAQUE
END:VEVENT
END:VCALENDAR
