BEGIN:VCALENDAR
PRODID:-//http://statistik.d-u-v.org//PHP ultracalendar//EN
VERSION:2.0
METHOD:PUBLISH
BEGIN:VEVENT
DTSTAMP:20260425T180000
CREATED:20170824T110548
UID:1777140000.0.46220800-42946@statistik.d-u-v.org
SUMMARY:Flex Power National 6h Track Taipei Morning Run
DESCRIPTION: Flex Power National 6h Track Taipei Morning Run\n
  \n
  ctau.runner[at]gmail.com
DTSTART:20171216T060000
DTEND:00000000T235900
LOCATION:Taipei City\, TPE
URL:https://docs.google.com/document/d/1mvR5BYpqC4J4DfQ8l1Pbw3_-BS4JIMjUO8sh7XlogW0/edit#
CATEGORIES:Ultramarathon
CONTACT:
CLASS:PUBLIC
PRIORITY:5
TRANSP:OPAQUE
END:VEVENT
END:VCALENDAR
