BEGIN:VCALENDAR
PRODID:-//http://statistik.d-u-v.org//PHP ultracalendar//EN
VERSION:2.0
METHOD:PUBLISH
BEGIN:VEVENT
DTSTAMP:20260422T125902
CREATED:20170823T001622
UID:1776862742.0.85508500-42916@statistik.d-u-v.org
SUMMARY:OptiVita 6 h night shift
DESCRIPTION: OptiVita 6 h night shift\n
  Barnabas Bardos\n
  barnabas.bardos[at]cardiocontrol.hu
DTSTART:20170610T200000
DTEND:00000000T235900
LOCATION:Velence\, HUN
URL:http://ironteam.hu
CATEGORIES:Ultramarathon
CONTACT:Barnabas Bardos
CLASS:PUBLIC
PRIORITY:5
TRANSP:OPAQUE
END:VEVENT
END:VCALENDAR
