BEGIN:VCALENDAR
PRODID:-//http://statistik.d-u-v.org//PHP ultracalendar//EN
VERSION:2.0
METHOD:PUBLISH
BEGIN:VEVENT
DTSTAMP:20260425T233237
CREATED:20170809T192207
UID:1777159957.0.74537400-42879@statistik.d-u-v.org
SUMMARY:Aijiangshan Trail Series - Guoaoxiangju
DESCRIPTION: Aijiangshan Trail Series - Guoaoxiangju\n
  \n
  
DTSTART:20170422T080000
DTEND:00000000T235900
LOCATION:Beijing City\, CHN
URL:http://www.phonedm.com/race/racedetail.jsp?raceid=48
CATEGORIES:Ultramarathon
CONTACT:
CLASS:PUBLIC
PRIORITY:5
TRANSP:OPAQUE
END:VEVENT
END:VCALENDAR
