BEGIN:VCALENDAR
PRODID:-//http://statistik.d-u-v.org//PHP ultracalendar//EN
VERSION:2.0
METHOD:PUBLISH
BEGIN:VEVENT
DTSTAMP:20260419T182114
CREATED:20090707T170230
UID:1776622874.0.84572300-4276@statistik.d-u-v.org
SUMMARY:Annapurna 71k Ultra Trail
DESCRIPTION: Annapurna 71k Ultra Trail\n
  \n
  rameshaction[at]yahoo.com
DTSTART:20100327T000000
DTEND:20100328T235900
LOCATION:Pokhara\, NEP
URL:http://annapurna100.com/index.html
CATEGORIES:Ultramarathon
CONTACT:
CLASS:PUBLIC
PRIORITY:5
TRANSP:OPAQUE
END:VEVENT
END:VCALENDAR
