BEGIN:VCALENDAR
PRODID:-//http://statistik.d-u-v.org//PHP ultracalendar//EN
VERSION:2.0
METHOD:PUBLISH
BEGIN:VEVENT
DTSTAMP:20260423T012133
CREATED:20170815T142513
UID:1776907293.0.21613300-42746@statistik.d-u-v.org
SUMMARY:Santa Barbara Red Rock 50 Mile
DESCRIPTION: Santa Barbara Red Rock 50 Mile\n
  Race Director Luis Escobar\n
  luisescobar150[at]gmail.com
DTSTART:20171125T060000
DTEND:00000000T235900
LOCATION:Santa Barbara, CA\, USA
URL:http://www.allwedoisrun.com/red-rock.html
CATEGORIES:Ultramarathon
CONTACT:Race Director Luis Escobar
CLASS:PUBLIC
PRIORITY:5
TRANSP:OPAQUE
END:VEVENT
END:VCALENDAR
