BEGIN:VCALENDAR
PRODID:-//http://statistik.d-u-v.org//PHP ultracalendar//EN
VERSION:2.0
METHOD:PUBLISH
BEGIN:VEVENT
DTSTAMP:20260419T185824
CREATED:20170810T113225
UID:1776625104.0.12064500-42612@statistik.d-u-v.org
SUMMARY:RaUl 3.0
DESCRIPTION: RaUl 3.0\n
  \n
  andreas.leischker[at]alexianer.de
DTSTART:20170826T040000
DTEND:00000000T235900
LOCATION:Ratingen\, GER
URL:http://www.spassamlaufen.de/
CATEGORIES:Ultramarathon
CONTACT:
CLASS:PUBLIC
PRIORITY:5
TRANSP:OPAQUE
END:VEVENT
END:VCALENDAR
