BEGIN:VCALENDAR
PRODID:-//http://statistik.d-u-v.org//PHP ultracalendar//EN
VERSION:2.0
METHOD:PUBLISH
BEGIN:VEVENT
DTSTAMP:20260423T100320
CREATED:20170810T165011
UID:1776938600.0.46492800-42607@statistik.d-u-v.org
SUMMARY:Southern Discomfort 6 Hour Race
DESCRIPTION: Southern Discomfort 6 Hour Race\n
  Kelli Kilpatrick\n
  kelli.sliwinski[at]gmail.com
DTSTART:20170729T080000
DTEND:00000000T235900
LOCATION:Albany, GA\, USA
URL:http://ultrasignup.com/register.aspx?did=43221
CATEGORIES:Ultramarathon
CONTACT:Kelli Kilpatrick
CLASS:PUBLIC
PRIORITY:5
TRANSP:OPAQUE
END:VEVENT
END:VCALENDAR
