BEGIN:VCALENDAR
PRODID:-//http://statistik.d-u-v.org//PHP ultracalendar//EN
VERSION:2.0
METHOD:PUBLISH
BEGIN:VEVENT
DTSTAMP:20260425T220246
CREATED:20170807T061539
UID:1777154566.0.38328600-42580@statistik.d-u-v.org
SUMMARY:Craze Ultra 101 km
DESCRIPTION: Craze Ultra 101 km\n
  Ben Swee\n
  
DTSTART:20170812T070000
DTEND:20170813T150000
LOCATION:Singapore\, SGP
URL:http://crazeultra.blogspot.com
CATEGORIES:Ultramarathon
CONTACT:Ben Swee
CLASS:PUBLIC
PRIORITY:5
TRANSP:OPAQUE
END:VEVENT
END:VCALENDAR
