BEGIN:VCALENDAR
PRODID:-//http://statistik.d-u-v.org//PHP ultracalendar//EN
VERSION:2.0
METHOD:PUBLISH
BEGIN:VEVENT
DTSTAMP:20260423T024006
CREATED:20170808T163051
UID:1776912006.0.55438300-42562@statistik.d-u-v.org
SUMMARY:Wakely Dam Ultra
DESCRIPTION: Wakely Dam Ultra\n
  \n
  RDKim[at]wakelydamultra.com
DTSTART:20170729T063000
DTEND:00000000T235900
LOCATION:Piseco Lake, NY\, USA
URL:http://ultrasignup.com/register.aspx?did=45064
CATEGORIES:Ultramarathon
CONTACT:
CLASS:PUBLIC
PRIORITY:5
TRANSP:OPAQUE
END:VEVENT
END:VCALENDAR
