BEGIN:VCALENDAR
PRODID:-//http://statistik.d-u-v.org//PHP ultracalendar//EN
VERSION:2.0
METHOD:PUBLISH
BEGIN:VEVENT
DTSTAMP:20260423T031409
CREATED:20170808T163051
UID:1776914049.0.89821900-42561@statistik.d-u-v.org
SUMMARY:Box Canyon - Telluride Mountain Run 50K
DESCRIPTION: Box Canyon - Telluride Mountain Run 50K\n
  \n
  boxcanyonrunning[at]gmail.com
DTSTART:20170729T060000
DTEND:00000000T235900
LOCATION:Telluride, CO\, USA
URL:http://www.tellurideboxcanyonrunning.com/
CATEGORIES:Ultramarathon
CONTACT:
CLASS:PUBLIC
PRIORITY:5
TRANSP:OPAQUE
END:VEVENT
END:VCALENDAR
