BEGIN:VCALENDAR
PRODID:-//http://statistik.d-u-v.org//PHP ultracalendar//EN
VERSION:2.0
METHOD:PUBLISH
BEGIN:VEVENT
DTSTAMP:20260419T165130
CREATED:20170808T122734
UID:1776617490.0.04397200-42533@statistik.d-u-v.org
SUMMARY:Impérial Trail Fontainebleau
DESCRIPTION: Impérial Trail Fontainebleau\n
  \n
  
DTSTART:20170916T000000
DTEND:00000000T235900
LOCATION:Fontainebleau\, FRA
URL:http://www.tri-aventure.fr/imperial_trail/imperial_trail_2014.html
CATEGORIES:Ultramarathon
CONTACT:
CLASS:PUBLIC
PRIORITY:5
TRANSP:OPAQUE
END:VEVENT
END:VCALENDAR
