BEGIN:VCALENDAR
PRODID:-//http://statistik.d-u-v.org//PHP ultracalendar//EN
VERSION:2.0
METHOD:PUBLISH
BEGIN:VEVENT
DTSTAMP:20260419T192206
CREATED:20170803T154213
UID:1776626526.0.55894500-42457@statistik.d-u-v.org
SUMMARY:Shawnee Hills 100 - 100 Mile
DESCRIPTION: Shawnee Hills 100 - 100 Mile\n
  \n
  
DTSTART:20170826T000000
DTEND:20170827T235900
LOCATION:Ozark, IL\, USA
URL:http://shawneehills100.weebly.com/
CATEGORIES:Ultramarathon
CONTACT:
CLASS:PUBLIC
PRIORITY:5
TRANSP:OPAQUE
END:VEVENT
END:VCALENDAR
