BEGIN:VCALENDAR
PRODID:-//http://statistik.d-u-v.org//PHP ultracalendar//EN
VERSION:2.0
METHOD:PUBLISH
BEGIN:VEVENT
DTSTAMP:20260424T201141
CREATED:20170802T180646
UID:1777061501.0.01469700-42415@statistik.d-u-v.org
SUMMARY:Winter Run to the Castle Ultra
DESCRIPTION: Winter Run to the Castle Ultra\n
  \n
  running[at]codrc.co.uk
DTSTART:20171209T084500
DTEND:00000000T235900
LOCATION:Aberdyfi\, GBR
URL:http://codrc.co.uk/run-to-the-castle
CATEGORIES:Ultramarathon
CONTACT:
CLASS:PUBLIC
PRIORITY:5
TRANSP:OPAQUE
END:VEVENT
END:VCALENDAR
