BEGIN:VCALENDAR
PRODID:-//http://statistik.d-u-v.org//PHP ultracalendar//EN
VERSION:2.0
METHOD:PUBLISH
BEGIN:VEVENT
DTSTAMP:20260420T000717
CREATED:20170801T141502
UID:1776643637.0.51100200-42396@statistik.d-u-v.org
SUMMARY:Quebec Mega Trail
DESCRIPTION: Quebec Mega Trail\n
  \n
  
DTSTART:20170715T000000
DTEND:00000000T235900
LOCATION:Beaupre, QC\, CAN
URL:https://www.facebook.com/QuebecMegaTrail/
CATEGORIES:Ultramarathon
CONTACT:
CLASS:PUBLIC
PRIORITY:5
TRANSP:OPAQUE
END:VEVENT
END:VCALENDAR
