BEGIN:VCALENDAR
PRODID:-//http://statistik.d-u-v.org//PHP ultracalendar//EN
VERSION:2.0
METHOD:PUBLISH
BEGIN:VEVENT
DTSTAMP:20260422T211830
CREATED:20170721T045123
UID:1776892710.0.84373000-42325@statistik.d-u-v.org
SUMMARY:Penang 84 km Challenge
DESCRIPTION: Penang 84 km Challenge\n
  Andrew Loh\n
  andrew[at]actifestyle.com
DTSTART:20170930T210000
DTEND:00000000T235900
LOCATION:Pulau Pinang\, MAS
URL:http://www.actifestyle.com/view_event.php?event_id=44
CATEGORIES:Ultramarathon
CONTACT:Andrew Loh
CLASS:PUBLIC
PRIORITY:5
TRANSP:OPAQUE
END:VEVENT
END:VCALENDAR
