BEGIN:VCALENDAR
PRODID:-//http://statistik.d-u-v.org//PHP ultracalendar//EN
VERSION:2.0
METHOD:PUBLISH
BEGIN:VEVENT
DTSTAMP:20260419T192341
CREATED:20170723T102356
UID:1776626621.0.31731200-42311@statistik.d-u-v.org
SUMMARY:Relentless Chiang Mai 12-Hour-Run
DESCRIPTION: Relentless Chiang Mai 12-Hour-Run\n
  Race Director Katherine Welch\n
  chiangmaiultra[at]gmail.com
DTSTART:20151107T140000
DTEND:00000000T235900
LOCATION:Chiang Mai\, THA
URL:http://relentlesschiangmai24hrun.webs.com/
CATEGORIES:Ultramarathon
CONTACT:Race Director Katherine Welch
CLASS:PUBLIC
PRIORITY:5
TRANSP:OPAQUE
END:VEVENT
END:VCALENDAR
