BEGIN:VCALENDAR
PRODID:-//http://statistik.d-u-v.org//PHP ultracalendar//EN
VERSION:2.0
METHOD:PUBLISH
BEGIN:VEVENT
DTSTAMP:20260419T164622
CREATED:20170718T170613
UID:1776617182.0.34208400-42274@statistik.d-u-v.org
SUMMARY:Let's Climb a Mountain
DESCRIPTION: Let's Climb a Mountain\n
  \n
  rnutkowitz[at]comcast.net
DTSTART:20100710T000000
DTEND:00000000T235900
LOCATION:Spokane, WA\, USA
URL:http://www.letsclimbamountain.com/
CATEGORIES:Ultramarathon
CONTACT:
CLASS:PUBLIC
PRIORITY:5
TRANSP:OPAQUE
END:VEVENT
END:VCALENDAR
