BEGIN:VCALENDAR
PRODID:-//http://statistik.d-u-v.org//PHP ultracalendar//EN
VERSION:2.0
METHOD:PUBLISH
BEGIN:VEVENT
DTSTAMP:20260419T182246
CREATED:20170706T190630
UID:1776622966.0.11695000-42155@statistik.d-u-v.org
SUMMARY:Pinhoti 100 Mile
DESCRIPTION: Pinhoti 100 Mile\n
  Todd Henderson\n
  Pinhoti100[at]gmail.com
DTSTART:20171104T000000
DTEND:20171105T235900
LOCATION:Heflin, AL\, USA
URL:http://www.pinhotitrailseries.com/
CATEGORIES:Ultramarathon
CONTACT:Todd Henderson
CLASS:PUBLIC
PRIORITY:5
TRANSP:OPAQUE
END:VEVENT
END:VCALENDAR
