BEGIN:VCALENDAR
PRODID:-//http://statistik.d-u-v.org//PHP ultracalendar//EN
VERSION:2.0
METHOD:PUBLISH
BEGIN:VEVENT
DTSTAMP:20260419T234438
CREATED:20170706T190630
UID:1776642278.0.61988700-42145@statistik.d-u-v.org
SUMMARY:Bad Apple Ultra - 12 hour
DESCRIPTION: Bad Apple Ultra - 12 hour\n
  \n
  BadAppleUltra[at]gmail.com
DTSTART:20171028T060000
DTEND:00000000T235900
LOCATION:Greenville, MI\, USA
URL:http://badappleultra.com/
CATEGORIES:Ultramarathon
CONTACT:
CLASS:PUBLIC
PRIORITY:5
TRANSP:OPAQUE
END:VEVENT
END:VCALENDAR
