BEGIN:VCALENDAR
PRODID:-//http://statistik.d-u-v.org//PHP ultracalendar//EN
VERSION:2.0
METHOD:PUBLISH
BEGIN:VEVENT
DTSTAMP:20260422T231309
CREATED:20170704T184245
UID:1776899589.0.44408300-42085@statistik.d-u-v.org
SUMMARY:Black Hills 100 Mile Run
DESCRIPTION: Black Hills 100 Mile Run\n
  Jerry Dunn, Ryan Phillips or Chris Stores\n
  blackhillsultra[at]gmail.com
DTSTART:20180623T000000
DTEND:20180624T235900
LOCATION:Sturgis, SD\, USA
URL:http://www.blackhills100.com/
CATEGORIES:Ultramarathon
CONTACT:Jerry Dunn, Ryan Phillips or Chris Stores
CLASS:PUBLIC
PRIORITY:5
TRANSP:OPAQUE
END:VEVENT
END:VCALENDAR
