BEGIN:VCALENDAR
PRODID:-//http://statistik.d-u-v.org//PHP ultracalendar//EN
VERSION:2.0
METHOD:PUBLISH
BEGIN:VEVENT
DTSTAMP:20260421T220434
CREATED:20170703T012818
UID:1776809074.0.40043600-42077@statistik.d-u-v.org
SUMMARY:The Chained Ultra
DESCRIPTION: The Chained Ultra\n
  Mark Cockbain\n
  
DTSTART:20170709T210000
DTEND:00000000T235900
LOCATION:Barrowden\, GBR
URL:http://www.cockbainevents.com/the-chained-ultra/4587349299
CATEGORIES:Ultramarathon
CONTACT:Mark Cockbain
CLASS:PUBLIC
PRIORITY:5
TRANSP:OPAQUE
END:VEVENT
END:VCALENDAR
