BEGIN:VCALENDAR
PRODID:-//http://statistik.d-u-v.org//PHP ultracalendar//EN
VERSION:2.0
METHOD:PUBLISH
BEGIN:VEVENT
DTSTAMP:20260420T015112
CREATED:20170626T173943
UID:1776649872.0.80346800-41918@statistik.d-u-v.org
SUMMARY:Canyon Meadow (Spring) 50 km Trail Run
DESCRIPTION: Canyon Meadow (Spring) 50 km Trail Run\n
  \n
  
DTSTART:20150620T080000
DTEND:00000000T235900
LOCATION:Oakland, CA\, USA
URL:http://www.coastaltrailruns.com/cm_spr_canyon_meadow.html
CATEGORIES:Ultramarathon
CONTACT:
CLASS:PUBLIC
PRIORITY:5
TRANSP:OPAQUE
END:VEVENT
END:VCALENDAR
