BEGIN:VCALENDAR
PRODID:-//http://statistik.d-u-v.org//PHP ultracalendar//EN
VERSION:2.0
METHOD:PUBLISH
BEGIN:VEVENT
DTSTAMP:20260423T035008
CREATED:20170625T091827
UID:1776916208.0.47835900-41912@statistik.d-u-v.org
SUMMARY:Trans 333 - Désert de Gobi non stop
DESCRIPTION: Trans 333 - Désert de Gobi non stop\n
  Alain Gestin\n
  
DTSTART:20170607T000000
DTEND:20170617T235900
LOCATION:Ulaanbaatar\, MGL
URL:http://www.extreme-runner.fr/index.php?option=com_content&view=article&id=114
CATEGORIES:Ultramarathon
CONTACT:Alain Gestin
CLASS:PUBLIC
PRIORITY:5
TRANSP:OPAQUE
END:VEVENT
END:VCALENDAR
