BEGIN:VCALENDAR
PRODID:-//http://statistik.d-u-v.org//PHP ultracalendar//EN
VERSION:2.0
METHOD:PUBLISH
BEGIN:VEVENT
DTSTAMP:20260419T164551
CREATED:20170608T183249
UID:1776617151.0.47941600-41723@statistik.d-u-v.org
SUMMARY:INFINITUS 2017 - 888k Ultramarathon
DESCRIPTION: INFINITUS 2017 - 888k Ultramarathon\n
  \n
  
DTSTART:20170518T000000
DTEND:20170528T235900
LOCATION:Goshen, VT\, USA
URL:http://www.endurancesociety.org/infinitus.html
CATEGORIES:Ultramarathon
CONTACT:
CLASS:PUBLIC
PRIORITY:5
TRANSP:OPAQUE
END:VEVENT
END:VCALENDAR
