BEGIN:VCALENDAR
PRODID:-//http://statistik.d-u-v.org//PHP ultracalendar//EN
VERSION:2.0
METHOD:PUBLISH
BEGIN:VEVENT
DTSTAMP:20260419T220814
CREATED:20170604T161011
UID:1776636494.0.34809800-41604@statistik.d-u-v.org
SUMMARY:Ardennes Méga Trail
DESCRIPTION: Ardennes Méga Trail\n
  Viven Modaine\n
  trail08[at]wanadoo.fr; ardennesmegatrail[at]yahoo.fr
DTSTART:20170624T050000
DTEND:00000000T235900
LOCATION:Les Hautes Rivieres\, FRA
URL:http://www.ardennes-megatrail.com/
CATEGORIES:Ultramarathon
CONTACT:Viven Modaine
CLASS:PUBLIC
PRIORITY:5
TRANSP:OPAQUE
END:VEVENT
END:VCALENDAR
