BEGIN:VCALENDAR
PRODID:-//http://statistik.d-u-v.org//PHP ultracalendar//EN
VERSION:2.0
METHOD:PUBLISH
BEGIN:VEVENT
DTSTAMP:20260425T113538
CREATED:20170604T154915
UID:1777116938.0.79076400-41596@statistik.d-u-v.org
SUMMARY:Ultra Trail Tour du Mont Blanc (UTMB)
DESCRIPTION: Ultra Trail Tour du Mont Blanc (UTMB)\n
  Nathalie Ecuer\n
  info[at]autmb.com
DTSTART:20170901T180000
DTEND:20170903T235900
LOCATION:Chamonix\, FRA
URL:http://www.ultratrailmb.com
CATEGORIES:Ultramarathon
CONTACT:Nathalie Ecuer
CLASS:PUBLIC
PRIORITY:5
TRANSP:OPAQUE
END:VEVENT
END:VCALENDAR
