BEGIN:VCALENDAR
PRODID:-//http://statistik.d-u-v.org//PHP ultracalendar//EN
VERSION:2.0
METHOD:PUBLISH
BEGIN:VEVENT
DTSTAMP:20260419T192410
CREATED:20170522T182803
UID:1776626650.0.33933100-41458@statistik.d-u-v.org
SUMMARY:Canyon De Chelly Ultra
DESCRIPTION: Canyon De Chelly Ultra\n
  \n
  
DTSTART:20141011T065000
DTEND:00000000T235900
LOCATION:Chinle, AZ\, USA
URL:http://www.canyondechellyultra.com/
CATEGORIES:Ultramarathon
CONTACT:
CLASS:PUBLIC
PRIORITY:5
TRANSP:OPAQUE
END:VEVENT
END:VCALENDAR
