BEGIN:VCALENDAR
PRODID:-//http://statistik.d-u-v.org//PHP ultracalendar//EN
VERSION:2.0
METHOD:PUBLISH
BEGIN:VEVENT
DTSTAMP:20260423T092309
CREATED:20160926T152448
UID:1776936189.0.25620100-41347@statistik.d-u-v.org
SUMMARY:The Northern Cross Ultramarathon - 110 Km
DESCRIPTION: The Northern Cross Ultramarathon - 110 Km\n
  \n
  
DTSTART:20170415T030000
DTEND:00000000T235900
LOCATION:Sanxia District\, TPE
URL:http://www.ibodygo.com.tw/EventTopic.aspx?n=402
CATEGORIES:Ultramarathon
CONTACT:
CLASS:PUBLIC
PRIORITY:5
TRANSP:OPAQUE
END:VEVENT
END:VCALENDAR
