BEGIN:VCALENDAR
PRODID:-//http://statistik.d-u-v.org//PHP ultracalendar//EN
VERSION:2.0
METHOD:PUBLISH
BEGIN:VEVENT
DTSTAMP:20260423T031436
CREATED:20090516T162842
UID:1776914076.0.52361100-4132@statistik.d-u-v.org
SUMMARY:Orange Curtain 50km Ultra Race
DESCRIPTION: Orange Curtain 50km Ultra Race\n
  Jay Anderson\n
  jayspenceranderson[at]yahoo.com
DTSTART:20070217T000000
DTEND:00000000T235900
LOCATION:Cerritos, CA\, USA
URL:http://www.oc100k.com/
CATEGORIES:Ultramarathon
CONTACT:Jay Anderson
CLASS:PUBLIC
PRIORITY:5
TRANSP:OPAQUE
END:VEVENT
END:VCALENDAR
