BEGIN:VCALENDAR
PRODID:-//http://statistik.d-u-v.org//PHP ultracalendar//EN
VERSION:2.0
METHOD:PUBLISH
BEGIN:VEVENT
DTSTAMP:20260419T164810
CREATED:20170502T183624
UID:1776617290.0.50535200-41169@statistik.d-u-v.org
SUMMARY:Tillamook Burn Trail Run 50 Mile
DESCRIPTION: Tillamook Burn Trail Run 50 Mile\n
  \n
  
DTSTART:20170429T000000
DTEND:00000000T235900
LOCATION:Tillamook State Forest, OR\, USA
URL:http://www.runtheburn.com/
CATEGORIES:Ultramarathon
CONTACT:
CLASS:PUBLIC
PRIORITY:5
TRANSP:OPAQUE
END:VEVENT
END:VCALENDAR
