BEGIN:VCALENDAR
PRODID:-//http://statistik.d-u-v.org//PHP ultracalendar//EN
VERSION:2.0
METHOD:PUBLISH
BEGIN:VEVENT
DTSTAMP:20260425T215150
CREATED:20090513T214716
UID:1777153910.0.23212800-4105@statistik.d-u-v.org
SUMMARY:Täby Extreme Challenge 75 miles
DESCRIPTION: Täby Extreme Challenge 75 miles\n
  \n
  tecloppet[at]gmail.com
DTSTART:20090321T000000
DTEND:20090322T235900
LOCATION:Täby\, SWE
URL:http://www.colibri.se/TEC/index.html
CATEGORIES:Ultramarathon
CONTACT:
CLASS:PUBLIC
PRIORITY:5
TRANSP:OPAQUE
END:VEVENT
END:VCALENDAR
