BEGIN:VCALENDAR
PRODID:-//http://statistik.d-u-v.org//PHP ultracalendar//EN
VERSION:2.0
METHOD:PUBLISH
BEGIN:VEVENT
DTSTAMP:20260424T155247
CREATED:20170413T105720
UID:1777045967.0.74409300-40715@statistik.d-u-v.org
SUMMARY:Ultra Trail Oso Negro 100k
DESCRIPTION: Ultra Trail Oso Negro 100k\n
  \n
  
DTSTART:20180127T040000
DTEND:20180128T235900
LOCATION:Santiago, Nuevo Leon\, MEX
URL:http://lineafinal.com/index20.php?lang=eng&cia=1032
CATEGORIES:Ultramarathon
CONTACT:
CLASS:PUBLIC
PRIORITY:5
TRANSP:OPAQUE
END:VEVENT
END:VCALENDAR
