BEGIN:VCALENDAR
PRODID:-//http://statistik.d-u-v.org//PHP ultracalendar//EN
VERSION:2.0
METHOD:PUBLISH
BEGIN:VEVENT
DTSTAMP:20260423T113302
CREATED:20170411T163118
UID:1776943982.0.77664800-40682@statistik.d-u-v.org
SUMMARY:Morroco Race MR65
DESCRIPTION: Morroco Race MR65\n
  \n
  info[at]moroccorace.com
DTSTART:20161126T000000
DTEND:00000000T235900
LOCATION:Tahnaout\, MAR
URL:http://www.moroccorace.com/morocco/
CATEGORIES:Ultramarathon
CONTACT:
CLASS:PUBLIC
PRIORITY:5
TRANSP:OPAQUE
END:VEVENT
END:VCALENDAR
