BEGIN:VCALENDAR
PRODID:-//http://statistik.d-u-v.org//PHP ultracalendar//EN
VERSION:2.0
METHOD:PUBLISH
BEGIN:VEVENT
DTSTAMP:20260419T185837
CREATED:20170406T174138
UID:1776625117.0.57559300-40631@statistik.d-u-v.org
SUMMARY:BUS Anniversary Run 40-Miler
DESCRIPTION: BUS Anniversary Run 40-Miler\n
  \n
  rich1239[at]nyc.rr.com
DTSTART:20170703T080000
DTEND:00000000T235900
LOCATION:New York, NY\, USA
URL:http://www.newyorkultrarunning.org/2017_BUS_40M_40K.htm
CATEGORIES:Ultramarathon
CONTACT:
CLASS:PUBLIC
PRIORITY:5
TRANSP:OPAQUE
END:VEVENT
END:VCALENDAR
