BEGIN:VCALENDAR
PRODID:-//http://statistik.d-u-v.org//PHP ultracalendar//EN
VERSION:2.0
METHOD:PUBLISH
BEGIN:VEVENT
DTSTAMP:20260423T054005
CREATED:20170402T075056
UID:1776922805.0.20768400-40580@statistik.d-u-v.org
SUMMARY:Monument Valley 50 Km Race
DESCRIPTION: Monument Valley 50 Km Race\n
  \n
  info[at]grandcircletrails.com
DTSTART:20170325T000000
DTEND:00000000T235900
LOCATION:Monument Valley, AZ\, USA
URL:http://www.grandcircletrails.com/monument-valley-general-info/
CATEGORIES:Ultramarathon
CONTACT:
CLASS:PUBLIC
PRIORITY:5
TRANSP:OPAQUE
END:VEVENT
END:VCALENDAR
