BEGIN:VCALENDAR
PRODID:-//http://statistik.d-u-v.org//PHP ultracalendar//EN
VERSION:2.0
METHOD:PUBLISH
BEGIN:VEVENT
DTSTAMP:20260422T224917
CREATED:20170327T093932
UID:1776898157.0.88769700-40530@statistik.d-u-v.org
SUMMARY:Ultimate Circuits South Africa 16 Day Challenge
DESCRIPTION: Ultimate Circuits South Africa 16 Day Challenge\n
  Stefan Roodt\n
  stefanroodt2[at]gmail.com
DTSTART:20170722T100000
DTEND:20170807T235900
LOCATION:Pretoria\, RSA
URL:http://stefanroodt.co.za
CATEGORIES:Ultramarathon
CONTACT:Stefan Roodt
CLASS:PUBLIC
PRIORITY:5
TRANSP:OPAQUE
END:VEVENT
END:VCALENDAR
