BEGIN:VCALENDAR
PRODID:-//http://statistik.d-u-v.org//PHP ultracalendar//EN
VERSION:2.0
METHOD:PUBLISH
BEGIN:VEVENT
DTSTAMP:20260422T231327
CREATED:20170330T235531
UID:1776899607.0.29601400-40528@statistik.d-u-v.org
SUMMARY:Rüninger 24-Stundenlauf
DESCRIPTION: Rüninger 24-Stundenlauf\n
  Otto\n
  pulkenat[at]aol.com
DTSTART:20170826T150000
DTEND:20170827T150000
LOCATION:Braunschweig\, GER
URL:http:///www.lauftreff-rueninger-roadrunner.de/
CATEGORIES:Ultramarathon
CONTACT:Otto
CLASS:PUBLIC
PRIORITY:5
TRANSP:OPAQUE
END:VEVENT
END:VCALENDAR
