BEGIN:VCALENDAR
PRODID:-//http://statistik.d-u-v.org//PHP ultracalendar//EN
VERSION:2.0
METHOD:PUBLISH
BEGIN:VEVENT
DTSTAMP:20260419T164622
CREATED:20170320T015214
UID:1776617182.0.15409100-40386@statistik.d-u-v.org
SUMMARY:6-Stunden-Lauf Münster - 50 km Split
DESCRIPTION: 6-Stunden-Lauf Münster - 50 km Split\n
  Christian Pflügler\n
  info[at]6h-lauf-muenster.de
DTSTART:20170311T100000
DTEND:20170311T160000
LOCATION:Münster-Handorf\, GER
URL:http://www.6h-lauf-muenster.de
CATEGORIES:Ultramarathon
CONTACT:Christian Pflügler
CLASS:PUBLIC
PRIORITY:5
TRANSP:OPAQUE
END:VEVENT
END:VCALENDAR
