BEGIN:VCALENDAR
PRODID:-//http://statistik.d-u-v.org//PHP ultracalendar//EN
VERSION:2.0
METHOD:PUBLISH
BEGIN:VEVENT
DTSTAMP:20260419T202856
CREATED:20170316T093909
UID:1776630536.0.94525900-40305@statistik.d-u-v.org
SUMMARY:A Bridge Too Far 125km
DESCRIPTION: A Bridge Too Far 125km\n
  Ryk Downes\n
  
DTSTART:20170513T073000
DTEND:20170514T235900
LOCATION:Otley\, GBR
URL:http://punkpanther.co.uk
CATEGORIES:Ultramarathon
CONTACT:Ryk Downes
CLASS:PUBLIC
PRIORITY:5
TRANSP:OPAQUE
END:VEVENT
END:VCALENDAR
