BEGIN:VCALENDAR
PRODID:-//http://statistik.d-u-v.org//PHP ultracalendar//EN
VERSION:2.0
METHOD:PUBLISH
BEGIN:VEVENT
DTSTAMP:20260419T183305
CREATED:20170307T182941
UID:1776623585.0.84917000-40214@statistik.d-u-v.org
SUMMARY:Lenape Trail Run
DESCRIPTION: Lenape Trail Run\n
  Race Director Christian Focacci\n
  chris.focacci[at]gmail.com
DTSTART:20170304T040000
DTEND:00000000T235900
LOCATION:Millburn, NJ\, USA
URL:http://www.njtrailrunning.com/lenape-trail-run.html
CATEGORIES:Ultramarathon
CONTACT:Race Director Christian Focacci
CLASS:PUBLIC
PRIORITY:5
TRANSP:OPAQUE
END:VEVENT
END:VCALENDAR
