BEGIN:VCALENDAR
PRODID:-//http://statistik.d-u-v.org//PHP ultracalendar//EN
VERSION:2.0
METHOD:PUBLISH
BEGIN:VEVENT
DTSTAMP:20260419T223159
CREATED:20071217T000000
UID:1776637919.0.22360100-4013@statistik.d-u-v.org
SUMMARY:Yukon Arctic Ultra 100mi
DESCRIPTION: Yukon Arctic Ultra 100mi\n
  Robert Pollhammer\n
  info[at]thegreatoutdoors.de
DTSTART:20090215T000000
DTEND:20090228T235900
LOCATION:Whitehorse, YT\, CAN
URL:http://www.arcticultra.de/
CATEGORIES:Ultramarathon
CONTACT:Robert Pollhammer
CLASS:PUBLIC
PRIORITY:5
TRANSP:OPAQUE
END:VEVENT
END:VCALENDAR
