BEGIN:VCALENDAR
PRODID:-//http://statistik.d-u-v.org//PHP ultracalendar//EN
VERSION:2.0
METHOD:PUBLISH
BEGIN:VEVENT
DTSTAMP:20260423T041125
CREATED:20170303T153208
UID:1776917485.0.10015800-40067@statistik.d-u-v.org
SUMMARY:Bromont Ultra 160 Km Trail Run
DESCRIPTION: Bromont Ultra 160 Km Trail Run\n
  \n
  
DTSTART:20171007T073000
DTEND:20171008T235900
LOCATION:Bromont, QC\, CAN
URL:http://www.bromontultra.com/
CATEGORIES:Ultramarathon
CONTACT:
CLASS:PUBLIC
PRIORITY:5
TRANSP:OPAQUE
END:VEVENT
END:VCALENDAR
